DSET ^FPAR_uk.nc
DTYPE netcdf 2 -1 -1 3
TITLE Monthly Vegetation parameters from ISLSCP-II at 1x1 degree
UNDEF 1.e+20
PDEF 15238 1 file 1 stream binary ^gtd.filepdef
XDEF 360 linear -179.5 1
YDEF 150 linear -59.5 1
ZDEF 1 LINEAR 1 1
TDEF 204 LINEAR 00Z01jan1982 1mo
VARS 1
FPAR=>fpar 0 3,2 Monthly fraction of photosynthetically active radiation
ENDVARS
